BEGIN:VCALENDAR
VERSION:2.0
PRODID:-//Chris Stockert//NONSGML kigkonsult.se iCalcreator 2.41.92//
CALSCALE:GREGORIAN
METHOD:PUBLISH
UID:61666561-3131-4734-b737-326265393637
X-WR-CALNAME:iCagenda
X-WR-CALDESC:Event Management Extension for Joomla!
X-WR-RELCALID:3E26604A-50F4-4449-8B3E-E4F4932D05B5
X-WR-TIMEZONE:UTC
BEGIN:VTIMEZONE
TZID:UTC
END:VTIMEZONE
BEGIN:VEVENT
UID:37353564-6239-4238-b236-663530613163
DTSTAMP:20260424T163157Z
CATEGORIES:Live Musik
CLASS:PUBLIC
DESCRIPTION:
DTSTART:20260605T190000Z
DTEND:20260605T190000Z
GEO:+49.506954;+8.212065
LOCATION:WEINreich\, Weinstube & Gästezimmer
ORGANIZER:
SEQUENCE:1
SUMMARY:Altstadtfest im WEINREICH Freinsheim - 2MOTION - Chris Stockert & G
 äste
TRANSP:OPAQUE
URL:https://chris2026.chris-stockert.de/index.php/unterwegs/5-altstadtfest-
 im-weinreich-freinsheim-2motion-chris-stockert-gaeste/2026-06-05-19-00
END:VEVENT
END:VCALENDAR
